BEGIN:VCALENDAR
VERSION:2.0
PRODID:-//Ortspartei SVP Küsnacht //NONSGML Events //EN
CALSCALE:GREGORIAN
X-WR-CALNAME:Ortspartei SVP Küsnacht
BEGIN:VEVENT
CREATED:20251217T143733Z
UID:1823
DTEND:20260328T000000
DTSTART:20260328T000000
DTSTAMP:20260420T081918Z
LOCATION:Graubünden
DESCRIPTION:
SUMMARY:Delegiertenversammlung SVP Schweiz
ORGANIZER:
URL;VALUE=URI:https://www.svp-kuesnacht.ch/termine/delegiertenversammlung-svp-schweiz-6/
TRANSP:OPAQUE
END:VEVENT
END:VCALENDAR
