BEGIN:VCALENDAR
VERSION:2.0
PRODID:-//Ortspartei SVP Küsnacht //NONSGML Events //EN
CALSCALE:GREGORIAN
X-WR-CALNAME:Ortspartei SVP Küsnacht
BEGIN:VEVENT
CREATED:20251217T143733Z
UID:1830
DTEND:20260509T000000
DTSTART:20260509T000000
DTSTAMP:20260421T113843Z
LOCATION:Wetzikon
DESCRIPTION:
SUMMARY:Kadertagung SVP Kt. Zürich
ORGANIZER:
URL;VALUE=URI:https://www.svp-kuesnacht.ch/termine/kadertagung-svp-kt-zuerich/
TRANSP:OPAQUE
END:VEVENT
END:VCALENDAR
