BEGIN:VCALENDAR
VERSION:2.0
PRODID:-//Ortspartei SVP Küsnacht //NONSGML Events //EN
CALSCALE:GREGORIAN
X-WR-CALNAME:Ortspartei SVP Küsnacht
BEGIN:VEVENT
CREATED:20251217T143733Z
UID:1831
DTEND:20260511T000000
DTSTART:20260511T000000
DTSTAMP:20260421T113609Z
LOCATION:Küsnacht
DESCRIPTION:
SUMMARY:Gemeinderat Politischer Themenabend
ORGANIZER:
URL;VALUE=URI:https://www.svp-kuesnacht.ch/termine/gemeinderat-politischer-themenabend-3/
TRANSP:OPAQUE
END:VEVENT
END:VCALENDAR
