BEGIN:VCALENDAR
VERSION:2.0
PRODID:-//Ortspartei SVP Küsnacht //NONSGML Events //EN
CALSCALE:GREGORIAN
X-WR-CALNAME:Ortspartei SVP Küsnacht
BEGIN:VEVENT
CREATED:20251217T143733Z
UID:1832
DTEND:20260514T000000
DTSTART:20260514T000000
DTSTAMP:20260421T132253Z
LOCATION:
DESCRIPTION:
SUMMARY:Auffahrt
ORGANIZER:
URL;VALUE=URI:https://www.svp-kuesnacht.ch/termine/auffahrt-2/
TRANSP:OPAQUE
END:VEVENT
END:VCALENDAR
