BEGIN:VCALENDAR
VERSION:2.0
PRODID:-//Ortspartei SVP Küsnacht //NONSGML Events //EN
CALSCALE:GREGORIAN
X-WR-CALNAME:Ortspartei SVP Küsnacht
BEGIN:VEVENT
CREATED:20251217T143733Z
UID:1833
DTEND:20260520T000000
DTSTART:20260520T000000
DTSTAMP:20260421T132327Z
LOCATION:Küsnacht
DESCRIPTION:
SUMMARY:Sitzung mit Gemeinderat\, Ortsparteien\, Schule\, Gewerbe\, Vereinskartell
ORGANIZER:
URL;VALUE=URI:https://www.svp-kuesnacht.ch/termine/sitzung-mit-gemeinderat-ortsparteien-schule-gewerbe-vereinskartell/
TRANSP:OPAQUE
END:VEVENT
END:VCALENDAR
