BEGIN:VCALENDAR
VERSION:2.0
PRODID:-//Ortspartei SVP Küsnacht //NONSGML Events //EN
CALSCALE:GREGORIAN
X-WR-CALNAME:Ortspartei SVP Küsnacht
BEGIN:VEVENT
CREATED:20251217T143733Z
UID:1835
DTEND:20260526T200000
DTSTART:20260526T193000
DTSTAMP:20260421T132705Z
LOCATION:Küsnacht
DESCRIPTION:
SUMMARY:Parteiversammlung (Thema: 2. Wahlgang 14.6 + Gem. Vers. 22.6) + Mauro Tuena
ORGANIZER:
URL;VALUE=URI:https://www.svp-kuesnacht.ch/termine/parteiversammlung-thema-2-wahlgang-14-6-gem-vers-22-6-mauro-tuena/
TRANSP:OPAQUE
END:VEVENT
END:VCALENDAR
