BEGIN:VCALENDAR
VERSION:2.0
PRODID:-//Ortspartei SVP Küsnacht //NONSGML Events //EN
CALSCALE:GREGORIAN
X-WR-CALNAME:Ortspartei SVP Küsnacht
BEGIN:VEVENT
CREATED:20251217T143734Z
UID:1836
DTEND:20260614T000000
DTSTART:20260614T000000
DTSTAMP:20260421T132439Z
LOCATION:
DESCRIPTION:
SUMMARY:Eidg. Und Kant. Abstimmungen (2. Wahlgang Gemeindewahlen 2026)
ORGANIZER:
URL;VALUE=URI:https://www.svp-kuesnacht.ch/termine/eidg-und-kant-abstimmungen-2-wahlgang-gemeindewahlen-2026/
TRANSP:OPAQUE
END:VEVENT
END:VCALENDAR
