BEGIN:VCALENDAR
VERSION:2.0
PRODID:-//Ortspartei SVP Küsnacht //NONSGML Events //EN
CALSCALE:GREGORIAN
X-WR-CALNAME:Ortspartei SVP Küsnacht
BEGIN:VEVENT
CREATED:20251217T143734Z
UID:1837
DTEND:20260622T000000
DTSTART:20260622T000000
DTSTAMP:20260425T130657Z
LOCATION:Küsnacht
DESCRIPTION:
SUMMARY:Gemeindeversammlung (Jahres-Rg\, Gesch.ber./Jahres-Rg Netzanstalt)
ORGANIZER:
URL;VALUE=URI:https://www.svp-kuesnacht.ch/termine/gemeindeversammlung-jahres-rg-gesch-ber-jahres-rg-netzanstalt/
TRANSP:OPAQUE
END:VEVENT
END:VCALENDAR
