BEGIN:VCALENDAR
VERSION:2.0
PRODID:-//Ortspartei SVP Küsnacht //NONSGML Events //EN
CALSCALE:GREGORIAN
X-WR-CALNAME:Ortspartei SVP Küsnacht
BEGIN:VEVENT
CREATED:20251217T143734Z
UID:1840
DTEND:20260816T000000
DTSTART:20260713T000000
DTSTAMP:20260425T114146Z
LOCATION:
DESCRIPTION:
SUMMARY:Sommerferien Kanton Zürich
ORGANIZER:
URL;VALUE=URI:https://www.svp-kuesnacht.ch/termine/sommerferien-kanton-zuerich-2/
TRANSP:OPAQUE
END:VEVENT
END:VCALENDAR
