BEGIN:VCALENDAR
VERSION:2.0
PRODID:-//Ortspartei SVP Küsnacht //NONSGML Events //EN
CALSCALE:GREGORIAN
X-WR-CALNAME:Ortspartei SVP Küsnacht
BEGIN:VEVENT
CREATED:20251217T143734Z
UID:1841
DTEND:20260801T000000
DTSTART:20260801T000000
DTSTAMP:20260425T130407Z
LOCATION:
DESCRIPTION:
SUMMARY:1. August-Feier
ORGANIZER:
URL;VALUE=URI:https://www.svp-kuesnacht.ch/termine/1-august-feier-2/
TRANSP:OPAQUE
END:VEVENT
END:VCALENDAR
