BEGIN:VCALENDAR
VERSION:2.0
PRODID:-//Ortspartei SVP Küsnacht //NONSGML Events //EN
CALSCALE:GREGORIAN
X-WR-CALNAME:Ortspartei SVP Küsnacht
BEGIN:VEVENT
CREATED:20251217T143734Z
UID:1845
DTEND:20260901T200000
DTSTART:20260901T190000
DTSTAMP:20260425T114120Z
LOCATION:Küsnacht\, Seehof
DESCRIPTION:
SUMMARY:Sommer Veranstaltung: Rede Rolf Döerig + Wurst und Grill ab 19:00 offeriert
ORGANIZER:
URL;VALUE=URI:https://www.svp-kuesnacht.ch/termine/sommer-veranstaltung-rede-rolf-doeerig-wurst-und-grill-ab-1900-offeriert/
TRANSP:OPAQUE
END:VEVENT
END:VCALENDAR
