BEGIN:VCALENDAR
VERSION:2.0
PRODID:-//Ortspartei SVP Küsnacht //NONSGML Events //EN
CALSCALE:GREGORIAN
X-WR-CALNAME:Ortspartei SVP Küsnacht
BEGIN:VEVENT
CREATED:20251217T143734Z
UID:1849
DTEND:20260927T000000
DTSTART:20260926T000000
DTSTAMP:20260425T114253Z
LOCATION:Marthalen
DESCRIPTION:
SUMMARY:SVP-Schiessen
ORGANIZER:
URL;VALUE=URI:https://www.svp-kuesnacht.ch/termine/svp-schiessen-3/
TRANSP:OPAQUE
END:VEVENT
END:VCALENDAR
