BEGIN:VCALENDAR
VERSION:2.0
PRODID:-//Ortspartei SVP Küsnacht //NONSGML Events //EN
CALSCALE:GREGORIAN
X-WR-CALNAME:Ortspartei SVP Küsnacht
BEGIN:VEVENT
CREATED:20251217T143734Z
UID:1850
DTEND:20260927T000000
DTSTART:20260927T000000
DTSTAMP:20260425T114051Z
LOCATION:
DESCRIPTION:
SUMMARY:Eidg. Und Kant. Abstimmungen
ORGANIZER:
URL;VALUE=URI:https://www.svp-kuesnacht.ch/termine/eidg-und-kant-abstimmungen-5/
TRANSP:OPAQUE
END:VEVENT
END:VCALENDAR
