BEGIN:VCALENDAR
VERSION:2.0
PRODID:-//Ortspartei SVP Küsnacht //NONSGML Events //EN
CALSCALE:GREGORIAN
X-WR-CALNAME:Ortspartei SVP Küsnacht
BEGIN:VEVENT
CREATED:20251217T143734Z
UID:1851
DTEND:20261016T000000
DTSTART:20261005T000000
DTSTAMP:20260425T130745Z
LOCATION:
DESCRIPTION:
SUMMARY:Herbstferien Kanton Zürich
ORGANIZER:
URL;VALUE=URI:https://www.svp-kuesnacht.ch/termine/herbstferien-kanton-zuerich-2/
TRANSP:OPAQUE
END:VEVENT
END:VCALENDAR
