BEGIN:VCALENDAR
VERSION:2.0
PRODID:-//Ortspartei SVP Küsnacht //NONSGML Events //EN
CALSCALE:GREGORIAN
X-WR-CALNAME:Ortspartei SVP Küsnacht
BEGIN:VEVENT
CREATED:20251217T143734Z
UID:1853
DTEND:20261021T200000
DTSTART:20261021T193000
DTSTAMP:20260425T130545Z
LOCATION:Küsnacht Schützenstube
DESCRIPTION:
SUMMARY:Vorstandssitzung (Thema. Gem. Ver. 7.12 + Jahresausklang 11.12)
ORGANIZER:
URL;VALUE=URI:https://www.svp-kuesnacht.ch/termine/vorstandssitzung-thema-gem-ver-7-12-jahresausklang-11-12/
TRANSP:OPAQUE
END:VEVENT
END:VCALENDAR
