BEGIN:VCALENDAR
VERSION:2.0
PRODID:-//Ortspartei SVP Küsnacht //NONSGML Events //EN
CALSCALE:GREGORIAN
X-WR-CALNAME:Ortspartei SVP Küsnacht
BEGIN:VEVENT
CREATED:20251217T143734Z
UID:1854
DTEND:20261028T000000
DTSTART:20261028T000000
DTSTAMP:20260425T130734Z
LOCATION:Küsnacht
DESCRIPTION:
SUMMARY:Sitzung mit Gemeinderat\, Orsparteien\, Schule\, Gewerbe\, Vereinskartell
ORGANIZER:
URL;VALUE=URI:https://www.svp-kuesnacht.ch/termine/sitzung-mit-gemeinderat-orsparteien-schule-gewerbe-vereinskartell/
TRANSP:OPAQUE
END:VEVENT
END:VCALENDAR
