BEGIN:VCALENDAR
VERSION:2.0
PRODID:-//Ortspartei SVP Küsnacht //NONSGML Events //EN
CALSCALE:GREGORIAN
X-WR-CALNAME:Ortspartei SVP Küsnacht
BEGIN:VEVENT
CREATED:20251217T143735Z
UID:1855
DTEND:20260905T120000
DTSTART:20260905T090000
DTSTAMP:20260425T114212Z
LOCATION:Küsnacht
DESCRIPTION:
SUMMARY:SVP Standaktion – Falkenplatz
ORGANIZER:
URL;VALUE=URI:https://www.svp-kuesnacht.ch/termine/svp-standaktion-falkenplatz-4/
TRANSP:OPAQUE
END:VEVENT
END:VCALENDAR
