BEGIN:VCALENDAR
VERSION:2.0
PRODID:-//Ortspartei SVP Küsnacht //NONSGML Events //EN
CALSCALE:GREGORIAN
X-WR-CALNAME:Ortspartei SVP Küsnacht
BEGIN:VEVENT
CREATED:20251217T143735Z
UID:1857
DTEND:20261110T200000
DTSTART:20261110T193000
DTSTAMP:20260425T130728Z
LOCATION:Küsnacht
DESCRIPTION:
SUMMARY:Parteiversammlung (Thema: Gem. Ver. 7.12)
ORGANIZER:
URL;VALUE=URI:https://www.svp-kuesnacht.ch/termine/parteiversammlung-thema-gem-ver-7-12/
TRANSP:OPAQUE
END:VEVENT
END:VCALENDAR
