BEGIN:VCALENDAR
VERSION:2.0
PRODID:-//Ortspartei SVP Küsnacht //NONSGML Events //EN
CALSCALE:GREGORIAN
X-WR-CALNAME:Ortspartei SVP Küsnacht
BEGIN:VEVENT
CREATED:20251217T143735Z
UID:1860
DTEND:20261211T000000
DTSTART:20261211T000000
DTSTAMP:20260425T130621Z
LOCATION:Küsnacht\, Schützenstube
DESCRIPTION:
SUMMARY:Jahresausklang SVP Küsnacht
ORGANIZER:
URL;VALUE=URI:https://www.svp-kuesnacht.ch/termine/jahresausklang-svp-kuesnacht-2/
TRANSP:OPAQUE
END:VEVENT
END:VCALENDAR
