BEGIN:VCALENDAR
VERSION:2.0
PRODID:-//Ortspartei SVP Küsnacht //NONSGML Events //EN
CALSCALE:GREGORIAN
X-WR-CALNAME:Ortspartei SVP Küsnacht
BEGIN:VEVENT
CREATED:20251217T143735Z
UID:1861
DTEND:20261215T000000
DTSTART:20261215T000000
DTSTAMP:20260425T130734Z
LOCATION:Bezirk Andelfingen
DESCRIPTION:
SUMMARY:Delegiertenversammlung SVP Kt. Zürich
ORGANIZER:
URL;VALUE=URI:https://www.svp-kuesnacht.ch/termine/delegiertenversammlung-svp-kt-zuerich-8/
TRANSP:OPAQUE
END:VEVENT
END:VCALENDAR
