BEGIN:VCALENDAR
VERSION:2.0
PRODID:-//Ortspartei SVP Küsnacht //NONSGML Events //EN
CALSCALE:GREGORIAN
X-WR-CALNAME:Ortspartei SVP Küsnacht
BEGIN:VEVENT
CREATED:20251217T143735Z
UID:1866
DTEND:20261231T000000
DTSTART:20261231T000000
DTSTAMP:20260425T130745Z
LOCATION:
DESCRIPTION:
SUMMARY:Silvester
ORGANIZER:
URL;VALUE=URI:https://www.svp-kuesnacht.ch/termine/silvester-2/
TRANSP:OPAQUE
END:VEVENT
END:VCALENDAR
